BEGIN:VCALENDAR
VERSION:2.0
PRODID:-//Xenophon e.V. - Gesellschaft für Erhalt und Förderung der klassischen Reitkultur - ECPv6.15.20//NONSGML v1.0//EN
CALSCALE:GREGORIAN
METHOD:PUBLISH
X-ORIGINAL-URL:https://xenophon-klassisch.org
X-WR-CALDESC:Veranstaltungen für Xenophon e.V. - Gesellschaft für Erhalt und Förderung der klassischen Reitkultur
REFRESH-INTERVAL;VALUE=DURATION:PT1H
X-Robots-Tag:noindex
X-PUBLISHED-TTL:PT1H
BEGIN:VTIMEZONE
TZID:Europe/Berlin
BEGIN:DAYLIGHT
TZOFFSETFROM:+0100
TZOFFSETTO:+0200
TZNAME:CEST
DTSTART:20250330T010000
END:DAYLIGHT
BEGIN:STANDARD
TZOFFSETFROM:+0200
TZOFFSETTO:+0100
TZNAME:CET
DTSTART:20251026T010000
END:STANDARD
BEGIN:DAYLIGHT
TZOFFSETFROM:+0100
TZOFFSETTO:+0200
TZNAME:CEST
DTSTART:20260329T010000
END:DAYLIGHT
BEGIN:STANDARD
TZOFFSETFROM:+0200
TZOFFSETTO:+0100
TZNAME:CET
DTSTART:20261025T010000
END:STANDARD
BEGIN:DAYLIGHT
TZOFFSETFROM:+0100
TZOFFSETTO:+0200
TZNAME:CEST
DTSTART:20270328T010000
END:DAYLIGHT
BEGIN:STANDARD
TZOFFSETFROM:+0200
TZOFFSETTO:+0100
TZNAME:CET
DTSTART:20271031T010000
END:STANDARD
END:VTIMEZONE
BEGIN:VEVENT
DTSTART;TZID=Europe/Berlin:20260820T000000
DTEND;TZID=Europe/Berlin:20260820T000000
DTSTAMP:20260423T211136
CREATED:20260420T174443Z
LAST-MODIFIED:20260420T181518Z
UID:4034-1787184000-1787184000@xenophon-klassisch.org
SUMMARY:FN-Ausbilderseminar: WM 2026 Aachen: Wissen zum Mitreden: Pferdewohl in der Praxis
DESCRIPTION:Wer Pferde aufmerksam beobachtet und auch kleine Zeichen wahrnimmt\, versteht mehr: wie es dem Pferd geht\, ob es sich wohlfühlt oder ob möglicherweise Schmerzen im Spiel sind. Kopfhaltung\, Schweifschlagen\, Ohrenspiel und Nüsternbewegung geben dabei wertvolle Hinweise. \nIm inspirierenden Umfeld der Weltmeisterschaften Aachen 2026 stellt Martin Plewa am Stand von Pferdesport Deutschland (FN) das Pferdewohl in den Mittelpunkt und bietet praxisnahe Unterstützung bei der objektiven Beurteilung. \nDie Teilnehmer erhalten Einblicke in arttypisches Verhalten und das Ausdrucksverhalten des Pferdes. Der etwa 30-minütige Vortrag wird durch echte Beispiele ergänzt: Im Para-Stadion kommentiert Martin Plewa live einige Ritte während einer Prüfung der Para-Dressur und richtet den Blick gezielt auf die feinen Signale der Pferde. \nBeginn: voraussichtlich vormittags\n(Die genaue Uhrzeit richtet sich nach der finalen Zeiteinteilung und wird rechtzeitig bekanntgegeben.) \nHinweis:\nTickets für das Veranstaltungsgelände (z. B. Village-Tickets) müssen separat erworben werden. Für die Para-Dressur ist kein zusätzliches Ticket erforderlich. \nErleben Sie Pferdewohl praxisnah – direkt im sportlichen Geschehen. \n\n		\n			\n				\n			\n			\n		 \n		\n			Martin Plewa ist Reitmeister\, ehemaliger Bundestrainer der deutschen Vielseitigkeitsreiter und ein anerkannter Experte für die klassische\, pferdegerechte Ausbildung von Reiter und Pferd. Über viele Jahre prägte er als Bundestrainer die deutsche Vielseitigkeit und war maßgeblich an internationalen Erfolgen beteiligt. Sein Schwerpunkt liegt auf einer fundierten\, nachhaltigen Ausbildung im Sinne der klassischen Reitlehre sowie auf der Verbindung von Theorie und Praxis. Neben seiner Trainertätigkeit engagiert er sich intensiv in der Aus- und Weiterbildung von Reitern\, Trainern und Ausbildern. Als Aufsichtsratsmitglied von Xenophon setzt er sich insbesondere für das Pferdewohl und eine verantwortungsvolle Ausbildung im Reitsport ein.\n		\n			\n		\nOrganisation & Teilnahme\nVeranstalter:FN-SeminarteamE-Mail: seminare@fn-dokr.deTelefon: 02581-6362-247 \nLerneinheiten:2 Lerneinheiten (Profil 3) \nVerfügbare Plätze:30 \nAnmeldeschluss:18.08.2026 \nTeilnahmegebühren: \n\nPM: 5\,00 €\nNicht-PM: 10\,00 €\n\n  \n  \n  \n 
URL:https://xenophon-klassisch.org/event/fn-ausbilderseminar-wm-2026-aachen-wissen-zum-mitreden-pferdewohl-in-der-praxis/
LOCATION:Aachen-Laurensberger Rennverein e.V.\, Albert-Servais-Allee 50\, Aachen\, Rheinland\, 52070
ORGANIZER;CN="FN-Seminarteam":MAILTO:seminare@fn-dokr.de
END:VEVENT
BEGIN:VEVENT
DTSTART;TZID=Europe/Berlin:20260820T000000
DTEND;TZID=Europe/Berlin:20260820T000000
DTSTAMP:20260423T211136
CREATED:20260420T175748Z
LAST-MODIFIED:20260420T181501Z
UID:4040-1787184000-1787184000@xenophon-klassisch.org
SUMMARY:FN-Ausbilderseminar: WM 2026 Aachen: Wissen zum Mitreden: Pferdewohl in der Praxis
DESCRIPTION:Wer Pferde aufmerksam beobachtet und auch kleine Zeichen wahrnimmt\, versteht mehr: wie es dem Pferd geht\, ob es sich wohlfühlt oder ob möglicherweise Schmerzen im Spiel sind. Kopfhaltung\, Schweifschlagen\, Ohrenspiel und Nüsternbewegung geben dabei wertvolle Hinweise. \nIm inspirierenden Umfeld der Weltmeisterschaften Aachen 2026 stellt Martin Plewa am Stand von Pferdesport Deutschland (FN) das Pferdewohl in den Mittelpunkt und bietet praxisnahe Unterstützung bei der objektiven Beurteilung. \nDie Teilnehmer erhalten Einblicke in arttypisches Verhalten und das Ausdrucksverhalten des Pferdes. Der etwa 30-minütige Vortrag wird durch echte Beispiele ergänzt: Im Para-Stadion kommentiert Martin Plewa live einige Ritte während einer Prüfung der Para-Dressur und richtet den Blick gezielt auf die feinen Signale der Pferde. \nBeginn: voraussichtlich vormittags\n(Die genaue Uhrzeit richtet sich nach der finalen Zeiteinteilung und wird rechtzeitig bekanntgegeben.) \nHinweis:\nTickets für das Veranstaltungsgelände (z. B. Village-Tickets) müssen separat erworben werden. Für die Para-Dressur ist kein zusätzliches Ticket erforderlich. \nErleben Sie Pferdewohl praxisnah – direkt im sportlichen Geschehen. \n\n		\n			\n				\n			\n			\n		 \n		\n			Martin Plewa ist Reitmeister\, ehemaliger Bundestrainer der deutschen Vielseitigkeitsreiter und ein anerkannter Experte für die klassische\, pferdegerechte Ausbildung von Reiter und Pferd. Über viele Jahre prägte er als Bundestrainer die deutsche Vielseitigkeit und war maßgeblich an internationalen Erfolgen beteiligt. Sein Schwerpunkt liegt auf einer fundierten\, nachhaltigen Ausbildung im Sinne der klassischen Reitlehre sowie auf der Verbindung von Theorie und Praxis. Neben seiner Trainertätigkeit engagiert er sich intensiv in der Aus- und Weiterbildung von Reitern\, Trainern und Ausbildern. Als Aufsichtsratsmitglied von Xenophon setzt er sich insbesondere für das Pferdewohl und eine verantwortungsvolle Ausbildung im Reitsport ein.\n		\n			\n		\nOrganisation & Teilnahme\nVeranstalter:FN-SeminarteamE-Mail: seminare@fn-dokr.deTelefon: 02581-6362-247 \nLerneinheiten:2 Lerneinheiten (Profil 3) \nVerfügbare Plätze:30 \nAnmeldeschluss:18.08.2026 \nTeilnahmegebühren: \n\nPM: 5\,00 €\nNicht-PM: 10\,00 €\n\n  \n  \n  \n 
URL:https://xenophon-klassisch.org/event/fn-ausbilderseminar-wm-2026-aachen-wissen-zum-mitreden-pferdewohl-in-der-praxis-2/
LOCATION:Aachen-Laurensberger Rennverein e.V.\, Albert-Servais-Allee 50\, Aachen\, Rheinland\, 52070
ORGANIZER;CN="FN-Seminarteam":MAILTO:seminare@fn-dokr.de
END:VEVENT
BEGIN:VEVENT
DTSTART;TZID=Europe/Berlin:20260821T000000
DTEND;TZID=Europe/Berlin:20260821T000000
DTSTAMP:20260423T211136
CREATED:20260420T180408Z
LAST-MODIFIED:20260420T181445Z
UID:4043-1787270400-1787270400@xenophon-klassisch.org
SUMMARY:FN-Ausbilderseminar: WM 2026 Aachen: Wissen zum Mitreden: Pferdewohl in der Praxis
DESCRIPTION:Wer Pferde aufmerksam beobachtet und auch kleine Zeichen wahrnimmt\, versteht mehr: wie es dem Pferd geht\, ob es sich wohlfühlt oder ob möglicherweise Schmerzen im Spiel sind. Kopfhaltung\, Schweifschlagen\, Ohrenspiel und Nüsternbewegung geben dabei wertvolle Hinweise. \nIm inspirierenden Umfeld der Weltmeisterschaften Aachen 2026 stellt Martin Plewa am Stand von Pferdesport Deutschland (FN) das Pferdewohl in den Mittelpunkt und bietet praxisnahe Unterstützung bei der objektiven Beurteilung. \nDie Teilnehmer erhalten Einblicke in arttypisches Verhalten und das Ausdrucksverhalten des Pferdes. Der etwa 30-minütige Vortrag wird durch echte Beispiele ergänzt: Im Para-Stadion kommentiert Martin Plewa live einige Ritte während einer Prüfung der Para-Dressur und richtet den Blick gezielt auf die feinen Signale der Pferde. \nBeginn: voraussichtlich nachmittags\, die genaue Uhrzeit richtet sich nach der finalen Zeiteinteilung\, kann täglich abweichen und wird rechtzeitig bekanntgegeben. \nTickets für das Veranstaltungsgelände (z.B. Village Tickets) müssen separat erworben werden. Für die Para-Dressur ist kein explizites Ticket erforderlich. \n\n		\n			\n				\n			\n			\n		 \n		\n			Martin Plewa ist Reitmeister\, ehemaliger Bundestrainer der deutschen Vielseitigkeitsreiter und ein anerkannter Experte für die klassische\, pferdegerechte Ausbildung von Reiter und Pferd. Über viele Jahre prägte er als Bundestrainer die deutsche Vielseitigkeit und war maßgeblich an internationalen Erfolgen beteiligt. Sein Schwerpunkt liegt auf einer fundierten\, nachhaltigen Ausbildung im Sinne der klassischen Reitlehre sowie auf der Verbindung von Theorie und Praxis. Neben seiner Trainertätigkeit engagiert er sich intensiv in der Aus- und Weiterbildung von Reitern\, Trainern und Ausbildern. Als Aufsichtsratsmitglied von Xenophon setzt er sich insbesondere für das Pferdewohl und eine verantwortungsvolle Ausbildung im Reitsport ein.\n		\n			\n		\nOrganisation & Teilnahme\nVeranstalter:FN-SeminarteamE-Mail: seminare@fn-dokr.deTelefon: 02581-6362-247 \nLerneinheiten:2 Lerneinheiten (Profil 3) \nVerfügbare Plätze:30 \nAnmeldeschluss:18.08.2026 \nTeilnahmegebühren: \n\nPM: 5\,00 €\nNicht-PM: 10\,00 €\n\n  \n  \n  \n 
URL:https://xenophon-klassisch.org/event/fn-ausbilderseminar-wm-2026-aachen-wissen-zum-mitreden-pferdewohl-in-der-praxis-3/
LOCATION:Aachen-Laurensberger Rennverein e.V.\, Albert-Servais-Allee 50\, Aachen\, Rheinland\, 52070
ORGANIZER;CN="FN-Seminarteam":MAILTO:seminare@fn-dokr.de
END:VEVENT
END:VCALENDAR