BEGIN:VCALENDAR
VERSION:2.0
PRODID:-//Xenophon e.V. - Gesellschaft für Erhalt und Förderung der klassischen Reitkultur - ECPv6.15.20//NONSGML v1.0//EN
CALSCALE:GREGORIAN
METHOD:PUBLISH
X-ORIGINAL-URL:https://xenophon-klassisch.org
X-WR-CALDESC:Veranstaltungen für Xenophon e.V. - Gesellschaft für Erhalt und Förderung der klassischen Reitkultur
REFRESH-INTERVAL;VALUE=DURATION:PT1H
X-Robots-Tag:noindex
X-PUBLISHED-TTL:PT1H
BEGIN:VTIMEZONE
TZID:Europe/Berlin
BEGIN:DAYLIGHT
TZOFFSETFROM:+0100
TZOFFSETTO:+0200
TZNAME:CEST
DTSTART:20250330T010000
END:DAYLIGHT
BEGIN:STANDARD
TZOFFSETFROM:+0200
TZOFFSETTO:+0100
TZNAME:CET
DTSTART:20251026T010000
END:STANDARD
BEGIN:DAYLIGHT
TZOFFSETFROM:+0100
TZOFFSETTO:+0200
TZNAME:CEST
DTSTART:20260329T010000
END:DAYLIGHT
BEGIN:STANDARD
TZOFFSETFROM:+0200
TZOFFSETTO:+0100
TZNAME:CET
DTSTART:20261025T010000
END:STANDARD
BEGIN:DAYLIGHT
TZOFFSETFROM:+0100
TZOFFSETTO:+0200
TZNAME:CEST
DTSTART:20270328T010000
END:DAYLIGHT
BEGIN:STANDARD
TZOFFSETFROM:+0200
TZOFFSETTO:+0100
TZNAME:CET
DTSTART:20271031T010000
END:STANDARD
END:VTIMEZONE
BEGIN:VEVENT
DTSTART;TZID=Europe/Berlin:20260730T170000
DTEND;TZID=Europe/Berlin:20260730T203000
DTSTAMP:20260423T192829
CREATED:20260420T173520Z
LAST-MODIFIED:20260420T181534Z
UID:4026-1785430800-1785443400@xenophon-klassisch.org
SUMMARY:FN-Ausbilderseminar: Was will uns das Pferd sagen ? Pferdewohl im Fokus
DESCRIPTION:Wer Reiter und Pferde ausbildet\, übernimmt eine besondere Verantwortung für eine pferdegerechte Ausbildung\, die Leistungsfähigkeit\, Gesunderhaltung und Wohlbefinden in Einklang bringt. Ebenso gehört dazu\, Reitschüler fachlich fundiert zu begleiten und ihnen pferdegerechtes Reiten zu vermitteln. \nIm FN-Ausbilderseminar erhalten Ausbilder praxisnahe Unterstützung bei der objektiven Beurteilung des Pferdewohls auf Basis aktueller wissenschaftlicher Erkenntnisse. Ziel ist es\, fundierte Kriterien zur fachlichen Einschätzung der Befindlichkeit des Pferdes zu vermitteln. \nWissenschaft trifft Praxis\nEingeleitet wird das Seminar durch einen Vortrag auf Basis aktueller Forschungsergebnisse\, erarbeitet von den renommierten Wissenschaftlerinnen Dr. Margit Zeitler-Feicht\, Dr. Diana Stucke und Dr. Kathrin Kienapfel. Dabei wird ausführlich auf das arttypische Verhalten sowie die Ausdrucksformen des Pferdes eingegangen. \nReitmeister Martin Plewa\, Aufsichtsratsmitglied von Xenophon\, zeigt anschließend\, wie diese Erkenntnisse für eine richtlinienkonforme Ausbildung und Beurteilung genutzt werden können – zunächst theoretisch und danach anhand praktischer Beispiele mit unterschiedlichen Pferden. \nInhalte und Mehrwert\nDie Teilnehmer lernen\, Wohlbefinden\, Stress und Schmerz bei gerittenen und nicht gerittenen Pferden besser einzuschätzen und verantwortungsvoll mit Grauzonen umzugehen. Die vermittelten Kriterien können im Training\, auf dem Abreiteplatz\, in Prüfungen sowie in der Ausbildung angewendet und an Reitschüler weitergegeben werden. \nEin Handout unterstützt die nachhaltige Umsetzung im Alltag. \n\n		\n			\n				\n			\n			\n		 \n		\n			Martin Plewa ist Reitmeister\, ehemaliger Bundestrainer der deutschen Vielseitigkeitsreiter und ein anerkannter Experte für die klassische\, pferdegerechte Ausbildung von Reiter und Pferd. Über viele Jahre prägte er als Bundestrainer die deutsche Vielseitigkeit und war maßgeblich an internationalen Erfolgen beteiligt. Sein Schwerpunkt liegt auf einer fundierten\, nachhaltigen Ausbildung im Sinne der klassischen Reitlehre sowie auf der Verbindung von Theorie und Praxis. Neben seiner Trainertätigkeit engagiert er sich intensiv in der Aus- und Weiterbildung von Reitern\, Trainern und Ausbildern. Als Aufsichtsratsmitglied von Xenophon setzt er sich insbesondere für das Pferdewohl und eine verantwortungsvolle Ausbildung im Reitsport ein.\n		\n			\n		\nOrganisation & Teilnahme\nVeranstalter:FN-SeminarteamE-Mail: seminare@fn-dokr.deTelefon: 02581-6362-247 \nLerneinheiten:4 Lerneinheiten (Profil 3) \nVerfügbare Plätze:55 \nAnmeldeschluss:20.04.2026 \nTeilnahmegebühren: \n\nPM: 20\,00 €\nNicht-PM: 30\,00 €\nPM bis 18 Jahre: 10\,00 €\nKinder bis 13 Jahre: 0\,00 €\n\n  \n  \n 
URL:https://xenophon-klassisch.org/event/fn-ausbilderseminar-was-will-uns-das-pferd-sagen-pferdewohl-im-fokus-2/
LOCATION:Landgestüt Redefin\, Betriebsgeände 1\, Redefin\, Mecklenburg-Vorpommern\, 19230
ORGANIZER;CN="FN-Seminarteam":MAILTO:seminare@fn-dokr.de
END:VEVENT
END:VCALENDAR