BEGIN:VCALENDAR
VERSION:2.0
PRODID:-//Xenophon e.V. - Gesellschaft für Erhalt und Förderung der klassischen Reitkultur - ECPv6.15.20//NONSGML v1.0//EN
CALSCALE:GREGORIAN
METHOD:PUBLISH
X-WR-CALNAME:Xenophon e.V. - Gesellschaft für Erhalt und Förderung der klassischen Reitkultur
X-ORIGINAL-URL:https://xenophon-klassisch.org
X-WR-CALDESC:Veranstaltungen für Xenophon e.V. - Gesellschaft für Erhalt und Förderung der klassischen Reitkultur
REFRESH-INTERVAL;VALUE=DURATION:PT1H
X-Robots-Tag:noindex
X-PUBLISHED-TTL:PT1H
BEGIN:VTIMEZONE
TZID:Europe/Berlin
BEGIN:DAYLIGHT
TZOFFSETFROM:+0100
TZOFFSETTO:+0200
TZNAME:CEST
DTSTART:20250330T010000
END:DAYLIGHT
BEGIN:STANDARD
TZOFFSETFROM:+0200
TZOFFSETTO:+0100
TZNAME:CET
DTSTART:20251026T010000
END:STANDARD
BEGIN:DAYLIGHT
TZOFFSETFROM:+0100
TZOFFSETTO:+0200
TZNAME:CEST
DTSTART:20260329T010000
END:DAYLIGHT
BEGIN:STANDARD
TZOFFSETFROM:+0200
TZOFFSETTO:+0100
TZNAME:CET
DTSTART:20261025T010000
END:STANDARD
BEGIN:DAYLIGHT
TZOFFSETFROM:+0100
TZOFFSETTO:+0200
TZNAME:CEST
DTSTART:20270328T010000
END:DAYLIGHT
BEGIN:STANDARD
TZOFFSETFROM:+0200
TZOFFSETTO:+0100
TZNAME:CET
DTSTART:20271031T010000
END:STANDARD
END:VTIMEZONE
BEGIN:VEVENT
DTSTART;TZID=Europe/Berlin:20260425T080000
DTEND;TZID=Europe/Berlin:20260426T170000
DTSTAMP:20260425T124940
CREATED:20260327T081224Z
LAST-MODIFIED:20260330T133830Z
UID:3972-1777104000-1777222800@xenophon-klassisch.org
SUMMARY:Xenophon-Lehrgang mit Karin Lührs – Kompetenz und Erfahrung für ambitionierte Reiter
DESCRIPTION:Die Eichhof Akademie freut sich\, einen Xenophon-Lehrgang mit Karin Lührs anbieten zu können. \nKarin Lührs ist eine erfolgreiche Grand-Prix-Reiterin und Ausbilderin\, die Pferde bis zur höchsten Klasse gefördert hat. Mit über 80 Siegen in der Klasse S sowie ihrer Qualifikation als Richterin bis Klasse S verfügt sie über ein außergewöhnlich tiefes Verständnis für den Dressursport. \nIhre Arbeit orientiert sich an den Grundsätzen der klassischen Reitlehre nach Xenophon: feine Hilfengebung\, Losgelassenheit und die harmonische Partnerschaft zwischen Pferd und Reiter. \nDurch ihre langjährige Erfahrung und ihr geschultes Auge für Details gestaltet sie ihren Unterricht individuell\, praxisnah und klar verständlich. Die Teilnehmer profitieren von gezielten Übungen und leicht umsetzbaren Anleitungen\, die das tägliche Training nachhaltig verbessern. \nErgänzend wird theoretisches Wissen vermittelt\, um die Zusammenhänge in der Ausbildung besser zu verstehen. \nEin Lehrgang mit ihr bietet die ideale Gelegenheit\, die eigene Reitweise zu verfeinern und neue Perspektiven zu gewinnen. \nLehrgangsdetails\n\nDatum: 25.04.2026 – 26.04.2026\nEinheit: 45 Minuten pro Teilnehmer\nPreis: 250\,00 €\n\nGeplante Zeiten: \n\n25.04.2026: ab 11:00 Uhr\n26.04.2026: ab 08:30 Uhr\n\nWichtige Hinweise\n\nFür externe Reiter fällt eine Platznutzungsgebühr von 15 € pro Tag an      (bar vor Ort am ersten Lehrgangstag zu zahlen).\nÄnderungen im Zeitplan sind möglich und werden rechtzeitig bekannt gegeben.\n\nZuschauerinformationen\nZuschauer sind herzlich willkommen. \n\nZuschauergebühr: 15 € (vor Ort zu zahlen)\nHunde sind erlaubt\, müssen jedoch jederzeit angeleint sein.\n\nKontakt\nEichhof Akademie📞 +49 177 514 00 40✉ kontakt@eichhof-akademie.de
URL:https://xenophon-klassisch.org/event/xenophon-lehrgang-mit-karin-luehrs-kompetenz-und-erfahrung-fuer-ambitionierte-reiter/
LOCATION:Eichhof Akademie\, Dorfstraße 12\, Stahnsdorf\, Brandenburg\, 14532
END:VEVENT
END:VCALENDAR